BEGIN:VCALENDAR
VERSION:2.0
PRODID:-//Movemint//Event Calendar//EN
BEGIN:VEVENT
UID:2026_sf_aapi_5k-112583
DTSTART:20260509
DTEND:20260509
SUMMARY:2026 SF AAPI 5K
LOCATION:Crissy Fields, SF, San Francisco, 5, 187
DESCRIPTION:<p><strong>The AAPI 5K is a road race to celebrate Asian American and Pacific Islander Heritage Month</strong><br>~Create a safe and welcoming space for AAPI Runners / Walkers<br>~Raise funds and awareness for AAPI nonprofit organizations<br>~Support AAPI Small Businesses<br><br><strong>Teams</strong><br>Teams with 8 or more runners who register by April 12th will receive a delicious cha siu bao (baked pork bun) or bolo bao (pineapple bun) as a tasty reward! This deadline helps our team prepare and order enough buns for everyone.</p><p><br><strong>Costume Challenge</strong><br>Run or Walk the 5K in a costume, bonus points for Anime characters.<br><br>NO RACE DAY BIB PICK UP. This will help create a more fun experience on race day.<br><br>Please pick up your BIB on the days listed below:<br>Sports Basement Presidio (610 Old Old Mason St, San Francisco)<br>~Wednesday, May 6 from 3:00 pm - 6:30 pm<br>~Thursday, May 7 from 3:00 pm - 6:30 pm<br>~Friday, May 8 from 3:00 pm - 6:30 pm<br><br>Friends or family members can pick up your BIB on Wednesday, Thursday, or Friday.</p>\n\nStart time: 08:30 AM\n\nConfirmation: S0YfkVD6DI\n\nMore info: https://www.movemint.cc/events/2026_sf_aapi_5k
STATUS:CONFIRMED
END:VEVENT
END:VCALENDAR