BEGIN:VCALENDAR
VERSION:2.0
PRODID:-//Movemint//Event Calendar//EN
BEGIN:VEVENT
UID:blue_heron_5k_2026-102717
DTSTART:20260704
DTEND:20260704
SUMMARY:Blue Heron 5K 2026
LOCATION:235 John F. Kennedy, SF, CA, 94117, San Francisco, 5, 187
DESCRIPTION:<p><strong>About Blue Heron 5K</strong></p><p>Join <a target="_blank" rel="noopener noreferrer" href="https://www.movemint.cc/groups/excelsior_running_club">Excelsior Running Club</a> for our third annual road 5k around Blue Heron Lake! The 5K is part of the <a target="_blank" rel="noopener noreferrer" href="https://www.pausatf.org/road-racing/2026-road-racing-grand-prix-schedule/">Pacific Association-USA Track &amp; Field (PA USAT&amp;F) Road Short Course Grand Prix Series</a>.&nbsp;The rolling course runs through Golden Gate Park. The event is open to the entire running community and will include an elite field and prize money.&nbsp;</p><p>The race welcomes runners and walkers of all ages and abilities. <a target="_blank" rel="noopener noreferrer" href="https://www.pausatf.org/joinrenew-now/">PAUSATF membership</a> is required for prize money payouts. Be aware that headphone use during the race is not allowed for USATF athletes per competition rules. Officials will disqualify any USATF athletes wearing headphones from prizes or Grand Prix scoring. This rule does not apply to all other race participants but we do ask that everybody exercise caution and be aware of their surroundings if they choose to wear headphones during the race. Strollers MUST start at the back and be careful not to impede other participants.</p><p><strong>Event Details</strong><br>When: Saturday, July 4th 2026 @ 8:00 AM.&nbsp;</p><p>Where: Start is on JFK @ Peacock Meadow, Golden Gate Park</p><p>What: 5k race timed by Ford Timing</p><p>Bathroom Access: Portable Bathrooms will be available in Peacock Meadows. There are 6 public restrooms within the area: at the tennis court near the start line (50 Bowling Green Dr), at the conservatory of flowers, at the carousel/playground (300 Bowling Green Dr), at the baseball fields (25-29 Nancy Pelosi Dr), at the Beer and Wine Garden (700 JFK Dr), and at Blue Heron Lake across from the Boat House.</p><p>The Course: Along JFK, loop around Blue Heron Lake, and back to Peacock Meadows! There is 135ft of elevation gained. See course map in the Location &amp; Maps tab.</p><p><strong>Registration</strong> <strong>Fees</strong></p><p>SUPER EARLY: through April 30th: $50 (+ service fee)</p><p>EARLY: May 1st through May 31st: $55 (+ service fee)</p><p>REGULAR: June 1st through July 3rd: $60 (+ service fee)</p><p>RACE DAY: $65 (+ service fee) via card, cash and checks are also accepted</p><p>U18 Admission: $30 (+ service fee)</p><p>Parent-Child Admission: $80 (+ service fee)</p><p><em>**if you want to register a family of participants, please send us a message via the Contact button</em></p><p>All entry fees are <strong>NON-REFUNDABLE</strong>. Transfers are subject to a $5 administrative fee.</p><p><strong>Race Day Parking &amp; Tent Set-Up</strong></p><p>Street parking will be available along Nancy Pelosi Drive and Bowling Green Drive. If your club wants to set up a tent, please notify the race director at paulalexatienza@gmail.com, so we can include your tent set up in the permit process. <strong>It will not cost your club any additional fees.</strong></p><p><strong>Event Schedule</strong></p><p>6:30-7:50 AM | Race Day Bib Pick-Up</p><p>8:00 AM | Race Starts</p><p>9:00 AM | Event Ends</p><p><strong>Prize Money</strong></p><p>Non-Binary Athletes: 1st, $250; 2nd $135, and 3rd $50 via check.&nbsp;</p><p>This race will have $2900 in prize money for USATF PA athletes and clubs. Plus, additional $1,450 to be split between the top 3 open men and women, top masters, and top open teams.</p><p><strong>Photography Credits</strong></p><p>Photography: <a target="_blank" rel="noopener noreferrer" href="https://www.instagram.com/lindseysinghavi.photography/?hl=en">@lindseysinghavi.photography</a>, <a target="_blank" rel="noopener noreferrer" href="https://www.instagram.com/milesperdonut/">@milesperdonut</a></p>\n\nStart time: 08:00 AM\n\nConfirmation: aFnvXRBRiN\n\nMore info: https://www.movemint.cc/events/blue_heron_5k_2026
STATUS:CONFIRMED
END:VEVENT
END:VCALENDAR